BEGIN:VCALENDAR
VERSION:2.0
PRODID:-//CIL - ECPv6.15.20//NONSGML v1.0//EN
CALSCALE:GREGORIAN
METHOD:PUBLISH
X-WR-CALNAME:CIL
X-ORIGINAL-URL:https://cilorlando.org
X-WR-CALDESC:Events for CIL
REFRESH-INTERVAL;VALUE=DURATION:PT1H
X-Robots-Tag:noindex
X-PUBLISHED-TTL:PT1H
BEGIN:VTIMEZONE
TZID:UTC
BEGIN:STANDARD
TZOFFSETFROM:+0000
TZOFFSETTO:+0000
TZNAME:UTC
DTSTART:20240101T000000
END:STANDARD
END:VTIMEZONE
BEGIN:VTIMEZONE
TZID:America/New_York
BEGIN:DAYLIGHT
TZOFFSETFROM:-0500
TZOFFSETTO:-0400
TZNAME:EDT
DTSTART:20230312T070000
END:DAYLIGHT
BEGIN:STANDARD
TZOFFSETFROM:-0400
TZOFFSETTO:-0500
TZNAME:EST
DTSTART:20231105T060000
END:STANDARD
BEGIN:DAYLIGHT
TZOFFSETFROM:-0500
TZOFFSETTO:-0400
TZNAME:EDT
DTSTART:20240310T070000
END:DAYLIGHT
BEGIN:STANDARD
TZOFFSETFROM:-0400
TZOFFSETTO:-0500
TZNAME:EST
DTSTART:20241103T060000
END:STANDARD
BEGIN:DAYLIGHT
TZOFFSETFROM:-0500
TZOFFSETTO:-0400
TZNAME:EDT
DTSTART:20250309T070000
END:DAYLIGHT
BEGIN:STANDARD
TZOFFSETFROM:-0400
TZOFFSETTO:-0500
TZNAME:EST
DTSTART:20251102T060000
END:STANDARD
END:VTIMEZONE
BEGIN:VEVENT
DTSTART;TZID=UTC:20250225T173000
DTEND;TZID=UTC:20250225T190000
DTSTAMP:20260419T133852
CREATED:20250214T195005Z
LAST-MODIFIED:20250220T191555Z
UID:9606-1740504600-1740510000@cilorlando.org
SUMMARY:Family Information Night (RSVP)
DESCRIPTION:Join us to: \n\nLearn about CIL programs that help youths ages 14-22 with disabilities in their lifelong journey of independence and success\nConnect with experts and build a network of support\nUnderstand how to access disability resources for you and your youth\nDiscover strategies to become an advocate for your youth\n\nOur mission is to impact you youth’s ability to thrive at home\, school\, and in the community. \nDon’t miss this opportunity to learn how we can help you and your family! \nRSVP here: \nPlease enable JavaScript in your browser to complete this form.		\n			guests are Number\n			\n		\n		Name *FirstLastEmail *Phone Number *How many adult guests are you bringing? *AddressIf you require accommodations\, please list them here *Submit
URL:https://cilorlando.org/event/family-information-night/
ORGANIZER;CN="Natalia Piedrahita":MAILTO:npiedrahita@cilorlando.org
END:VEVENT
BEGIN:VEVENT
DTSTART;TZID=America/New_York:20241218T163000
DTEND;TZID=America/New_York:20241218T183000
DTSTAMP:20260419T133852
CREATED:20241204T140412Z
LAST-MODIFIED:20241204T152143Z
UID:9564-1734539400-1734546600@cilorlando.org
SUMMARY:Silent Night 2024
DESCRIPTION:Join us for an inclusive holiday event for CIL clients and their families.
URL:https://cilorlando.org/event/silent-night-2024/
LOCATION:Center for Health & Wellbeing\, 2005 Mizell Avenue\, Suite 1600A\, Winter Park\, FL\, 32792\, United States
END:VEVENT
END:VCALENDAR