BEGIN:VCALENDAR
VERSION:2.0
PRODID:-//CIL - ECPv6.15.20//NONSGML v1.0//EN
CALSCALE:GREGORIAN
METHOD:PUBLISH
X-ORIGINAL-URL:https://cilorlando.org
X-WR-CALDESC:Events for CIL
REFRESH-INTERVAL;VALUE=DURATION:PT1H
X-Robots-Tag:noindex
X-PUBLISHED-TTL:PT1H
BEGIN:VTIMEZONE
TZID:UTC
BEGIN:STANDARD
TZOFFSETFROM:+0000
TZOFFSETTO:+0000
TZNAME:UTC
DTSTART:20250101T000000
END:STANDARD
END:VTIMEZONE
BEGIN:VEVENT
DTSTART;TZID=UTC:20260511T173000
DTEND;TZID=UTC:20260511T183000
DTSTAMP:20260424T123621
CREATED:20260422T130848Z
LAST-MODIFIED:20260422T140456Z
UID:12163-1778520600-1778524200@cilorlando.org
SUMMARY:Transition Program at Advent Health East Orlando Meet and Greet
DESCRIPTION:Please enable JavaScript in your browser to complete this form.		\n			Number Comment Number\n			\n		\n		Name *FirstLastPhone Number *Email *Number of Attendees *Comment or MessageSubmit
URL:https://cilorlando.org/event/transition-program-at-advent-health-east-orlando-meet-and-greet/
LOCATION:AdventHealth East Orlando – Procedo A Conference Room\, 7727 Lake Underhill Road\, Orlando\, FL\, 32822\, United States
END:VEVENT
END:VCALENDAR